BEGIN:VCALENDAR
VERSION:2.0
PRODID:-//Davar Bristol - ECPv6.9.0//NONSGML v1.0//EN
CALSCALE:GREGORIAN
METHOD:PUBLISH
X-WR-CALNAME:Davar Bristol
X-ORIGINAL-URL:https://davarbristol.co.uk
X-WR-CALDESC:Events for Davar Bristol
REFRESH-INTERVAL;VALUE=DURATION:PT1H
X-Robots-Tag:noindex
X-PUBLISHED-TTL:PT1H
BEGIN:VTIMEZONE
TZID:Europe/London
BEGIN:DAYLIGHT
TZOFFSETFROM:+0000
TZOFFSETTO:+0100
TZNAME:BST
DTSTART:20200329T010000
END:DAYLIGHT
BEGIN:STANDARD
TZOFFSETFROM:+0100
TZOFFSETTO:+0000
TZNAME:GMT
DTSTART:20201025T010000
END:STANDARD
BEGIN:DAYLIGHT
TZOFFSETFROM:+0000
TZOFFSETTO:+0100
TZNAME:BST
DTSTART:20210328T010000
END:DAYLIGHT
BEGIN:STANDARD
TZOFFSETFROM:+0100
TZOFFSETTO:+0000
TZNAME:GMT
DTSTART:20211031T010000
END:STANDARD
BEGIN:DAYLIGHT
TZOFFSETFROM:+0000
TZOFFSETTO:+0100
TZNAME:BST
DTSTART:20220327T010000
END:DAYLIGHT
BEGIN:STANDARD
TZOFFSETFROM:+0100
TZOFFSETTO:+0000
TZNAME:GMT
DTSTART:20221030T010000
END:STANDARD
BEGIN:DAYLIGHT
TZOFFSETFROM:+0000
TZOFFSETTO:+0100
TZNAME:BST
DTSTART:20230326T010000
END:DAYLIGHT
BEGIN:STANDARD
TZOFFSETFROM:+0100
TZOFFSETTO:+0000
TZNAME:GMT
DTSTART:20231029T010000
END:STANDARD
BEGIN:DAYLIGHT
TZOFFSETFROM:+0000
TZOFFSETTO:+0100
TZNAME:BST
DTSTART:20240331T010000
END:DAYLIGHT
BEGIN:STANDARD
TZOFFSETFROM:+0100
TZOFFSETTO:+0000
TZNAME:GMT
DTSTART:20241027T010000
END:STANDARD
BEGIN:DAYLIGHT
TZOFFSETFROM:+0000
TZOFFSETTO:+0100
TZNAME:BST
DTSTART:20250330T010000
END:DAYLIGHT
BEGIN:STANDARD
TZOFFSETFROM:+0100
TZOFFSETTO:+0000
TZNAME:GMT
DTSTART:20251026T010000
END:STANDARD
BEGIN:DAYLIGHT
TZOFFSETFROM:+0000
TZOFFSETTO:+0100
TZNAME:BST
DTSTART:20260329T010000
END:DAYLIGHT
BEGIN:STANDARD
TZOFFSETFROM:+0100
TZOFFSETTO:+0000
TZNAME:GMT
DTSTART:20261025T010000
END:STANDARD
END:VTIMEZONE
BEGIN:VEVENT
DTSTART;TZID=Europe/London:20260415T193000
DTEND;TZID=Europe/London:20260415T213000
DTSTAMP:20260424T160014
CREATED:20260102T063025Z
LAST-MODIFIED:20260102T063025Z
UID:1149-1776281400-1776288600@davarbristol.co.uk
SUMMARY:The Jewish Christian relationship: parent and child or siblings?
DESCRIPTION:  \nT \nThe Jewish Christian relationship: parent and child or siblings? \nCanon Guy Wilkinson CBE • Bristol \nWhilst the Church of England from 1942 with the formation of the Council of Christians and Jews has issued numerous statements condemning antisemitism\, it was not until 2019 that the C of E’s Faith and Order Commission published its formal guidance on how the C of E’s relationship with Judaism should theologically and practically be understood. ‘God’s Unfailing Word’ states that it should be understood from the perspective that ‘the Christian–Jewish relationship is a gift of God to the Church.’ I will look at the ‘Difficult history’ and the ‘Distinctive relationship’ which it considers. It should be emphasised that although there is an afterword by Chief Rabbi Ephraim Mirvis\, this is not a joint document\, but one which represents the current view of the Church of England. \n \nGuy Wilkinson has worked on aid programmes in Africa\, and in the European Commission in Brussels. He then attended theological college\, was ordained as a priest in the Church of England in 1987 and served in several parishes before becoming Archdeacon of Bradford. He served as the Archbishop of Canterbury’s and C of E’s Inter Religious Affairs Adviser before serving as Inter Faith Adviser to the bishop of Salisbury and now to the bishop of Bristol. He is married to Tessa and they have five children. \nShare this:Click to share on Twitter (Opens in new window)Click to share on Facebook (Opens in new window)Click to email a link to a friend (Opens in new window)Click to print (Opens in new window)
URL:https://davarbristol.co.uk/event/the-jewish-christian-relationship-parent-and-child-or-siblings/
LOCATION:Redland Quaker Meeting House\, 126 Hampton Road \, Bristol\, BS6 6EJ\, United Kingdom
CATEGORIES:Identity,Talk,Torah
END:VEVENT
BEGIN:VEVENT
DTSTART;TZID=Europe/London:20201008T193000
DTEND;TZID=Europe/London:20201008T210000
DTSTAMP:20260424T160014
CREATED:20200901T105151Z
LAST-MODIFIED:20200901T105151Z
UID:434-1602185400-1602190800@davarbristol.co.uk
SUMMARY:Medicine in Ancient Judaism: Why does G-d attempt to kill Moses in Exodus 4?
DESCRIPTION:Directly after the burning bush scene\, G-d inexplicably tries to kill Moses (Exodus 4:24-26). Fortunately\, Moses’ life is saved by Zipporah’s enigmatic “Bridegroom of Blood” ritual. Commentators both ancient and modern have proposed many solutions by filling in the gaps\, proposing reasons such as Moses’ failing courage or procrastination. But what did this episode mean in its original setting? This talk will look at how G-d’s attempt on Moses’ life is better understood in the broader historical context of ancient medicine. In this talk\, Dr Askin will draw upon recent research from her current project\, Medicine in Ancient Israel and Early Judaism\, to explore how and why the Bible’s portrayals of medicine and healing seems so mysterious and distant to us. \n \nDr Lindsey A. Askin is Lecturer in Jewish Studies\, University of Bristol. She is the author of Scribal Culture in Ben Sira (Brill\, 2018)\, which is based on her doctoral thesis (University of Cambridge\, 2012-16). Her research interests include mental illness and medicine in the Bible and ancient Judaism\, scribal culture and literacy\, Ben Sira\, the Dead Sea Scrolls\, and the Book of Jubilees. \nShare this:Click to share on Twitter (Opens in new window)Click to share on Facebook (Opens in new window)Click to email a link to a friend (Opens in new window)Click to print (Opens in new window)
URL:https://davarbristol.co.uk/event/medicine-in-ancient-judaism-why-does-g-d-attempt-to-kill-moses-in-exodus-4-2/
LOCATION:Virtual streamed
CATEGORIES:Medicine,Talk,Torah
END:VEVENT
END:VCALENDAR